BEGIN:VCALENDAR
VERSION:2.0
PRODID:-//ChamberMaster//Event Calendar 2.0//EN
METHOD:PUBLISH
X-PUBLISHED-TTL:P3D
REFRESH-INTERVAL:P3D
CALSCALE:GREGORIAN
BEGIN:VEVENT
DTSTART:20230910T170000Z
DTEND:20231022T190000Z
X-MICROSOFT-CDO-ALLDAYEVENT:FALSE
SUMMARY:100th Anniversary Show
DESCRIPTION:The 100th Anniversary Show will be a celebration of 100 years for the Anderson Art Museum.
X-ALT-DESC;FMTTYPE=text/html:The 100th Anniversary Show will be a celebration of 100 years for the Anderson Art Museum.
LOCATION:Anderson Museum of Art
UID:e.1371.18324
SEQUENCE:3
DTSTAMP:20260422T214929Z
URL:http://business.madisoncountyalliance.org/events/details/100th-anniversary-show-18324
END:VEVENT

END:VCALENDAR
