BEGIN:VCALENDAR
VERSION:2.0
PRODID:-//ChamberMaster//Event Calendar 2.0//EN
METHOD:PUBLISH
X-PUBLISHED-TTL:P3D
REFRESH-INTERVAL:P3D
CALSCALE:GREGORIAN
BEGIN:VEVENT
DTSTART:20231115T163000Z
DTEND:20231115T183000Z
X-MICROSOFT-CDO-ALLDAYEVENT:FALSE
SUMMARY:2023 State of The County
DESCRIPTION:November 15\, 2023   11:30 a.m.\n\nHarrah's Hoosier Park\n\nTickets $35 each includes lunch\n\nTHANK YOU TO OUR PRINT SPONSOR JAM PRINTING!!
X-ALT-DESC;FMTTYPE=text/html:<div style="text-align: center\;"><br />\n<br />\n<span style="font-size:20px\;">November 15\, 2023&nbsp\;&bull\; 11:30 a.m.<br />\nHarrah&#39\;s Hoosier Park<br />\nTickets $35&nbsp\;each includes lunch<br />\nTHANK YOU TO OUR PRINT SPONSOR JAM PRINTING!!</span></div>\n<br />\n<br />\n<br />\n<br />\n<br />\n<br />\n<br />\n&nbsp\;
LOCATION:Harrah's Hoosier Park Racing and Casino 4500 Dan Patch Circle Anderson\, IN 46013
UID:e.1371.18783
SEQUENCE:3
DTSTAMP:20260422T185825Z
URL:http://business.madisoncountyalliance.org/events/details/2023-state-of-the-county-18783
END:VEVENT

END:VCALENDAR
