BEGIN:VCALENDAR
VERSION:2.0
PRODID:-//ChamberMaster//Event Calendar 2.0//EN
METHOD:PUBLISH
X-PUBLISHED-TTL:P3D
REFRESH-INTERVAL:P3D
CALSCALE:GREGORIAN
BEGIN:VEVENT
DTSTART;VALUE=DATE:20230923
DTEND;VALUE=DATE:20230924
TRANSP:TRANSPARENT
X-MICROSOFT-CDO-ALLDAYEVENT:TRUE
SUMMARY:2023 Taste of Madison County Vendor Registration
DESCRIPTION:POSTPONED\n\n2023 Taste of Madison County \n\nSeptember 23\, 2023\n\nVendor Registration\n\n\n**Food Vendor Contract:  \n\nhttps://docs.google.com/forms/d/e/1FAIpQLSf70Sppq4ntnP0rvQbD-K6pa8n85G8eg7uk_YAiUmpeJDu0gA/viewform?usp=sf_link\n\n\n\n**Artisan Vendor Contract:  \n\nhttps://docs.google.com/forms/d/e/1FAIpQLSeD0fv4gaA1E1TcaWGKHt9bB_7N_s8_wo0PTq-5MwfAoLPjSA/viewform?usp=sf_link\n\n\n\n**Vendors must register at the appropriate link above AND complete the registration (for payment) on this page (click the "Register" button)\n\n\n\n2023 marks the inaugural event for Taste of Madison County\, a family-friendly celebration of Madison County's food culture.  The event is presented by the Madison County Chamber of Commerce and the Anderson Madison County Visitors Bureau.  \n\nThis event will include appetizing food samples from our restaurants throughout the county\, local artisans\, an outdoor beverage garden\, and entertainment.  Showcase your business to 1\,500-2\,000+ people from Madison County and the surrounding areas.  Admission to the Taste is free and participants will be able to purchase tickets to participate in the tasting experience.  This premier demonstrates an interest in the community that leads to follow-up dining experiences.\n\n\n\nBooth Cost $100\n\n10' x 10' space\, includes 1 table and 2 chairs\n\nAdditional spaces $100 (must be approved the by Taste of Madison County Committee)\n\nPop up tents are vendor's responsibility and must fit in the allotted 10' x 10' space \n\n**Food Truck Vendor cost is subject to space required**\n\n\n\n**All beverages not in the designated Beer Garden will be sold by \n\n\n\nDeadline to sign up is July 30\, 2023\n\nMust submit sample item(s) menu by August 30\, 2023\n\nMust submit proof of insurance by September 1\, 2023\n\n\n\nClick HERE for more information and registration form.  Registration form must be complete and emailed to Patty Lovins at patty@getlinkedmadison.com by July 30\, 2023.Payment must be HERE in order to confirm your registration.\n\n\n\nIf you need further assistance\, please contact Patty Lovins at 765-642-0264 or email at Patty@getlinkedmadison.com
X-ALT-DESC;FMTTYPE=text/html:<div style="text-align: center\;"><span style="font-size:20px\;"><strong><span style="color:#FF0000\;">POSTPONED</span><br />\n2023 Taste of Madison County&nbsp\;<br />\nSeptember 23\, 2023<br />\nVendor Registration</strong></span></div>\n<br />\n<u><strong>**Food Vendor Contract:</strong></u>&nbsp\;&nbsp\;<br />\nhttps://docs.google.com/forms/d/e/1FAIpQLSf70Sppq4ntnP0rvQbD-K6pa8n85G8eg7uk_YAiUmpeJDu0gA/viewform?usp=sf_link<br />\n<br />\n<u><strong>**Artisan Vendor Contract:</strong></u>&nbsp\;&nbsp\;<br />\nhttps://docs.google.com/forms/d/e/1FAIpQLSeD0fv4gaA1E1TcaWGKHt9bB_7N_s8_wo0PTq-5MwfAoLPjSA/viewform?usp=sf_link<br />\n<br />\n**Vendors must register at the appropriate link above AND complete the registration (for payment) on this page (click the &quot\;Register&quot\; button)<br />\n<br />\n2023 marks the inaugural event for Taste of Madison County\, a family-friendly celebration of Madison County&#39\;s food culture.&nbsp\; The event is presented by the Madison County Chamber of Commerce and the Anderson Madison County Visitors Bureau.&nbsp\;&nbsp\;<br />\nThis event will include appetizing food samples from our restaurants throughout the county\, local artisans\, an outdoor beverage garden\, and entertainment.&nbsp\; Showcase your business to 1\,500-2\,000+ people from Madison County and the surrounding areas.&nbsp\; Admission to the Taste is free and participants will be able to purchase tickets to participate in the tasting experience.&nbsp\; This premier demonstrates an interest in the community that leads to follow-up dining experiences.<br />\n<br />\n<span style="font-size:14px\;"><strong>Booth Cost $100</strong></span><br />\n10&#39\; x 10&#39\; space\, includes 1 table and 2 chairs<br />\nAdditional spaces $100 (must be approved the by Taste of Madison County Committee)<br />\nPop up tents are vendor&#39\;s responsibility and must fit in the allotted 10&#39\; x 10&#39\; space&nbsp\;<br />\n**Food Truck Vendor cost is subject to space required**<br />\n<br />\n**All beverages not in the designated Beer Garden will be sold by&nbsp\;<br />\n<br />\n<span style="font-size:16px\;"><strong>Deadline to sign up is July 30\, 2023<br />\nMust submit sample item(s) menu by August 30\, 2023<br />\nMust submit proof of insurance by September 1\, 2023</strong></span><br />\n<br />\nClick <strong>HERE</strong> for more information and registration form.&nbsp\; Registration form must be complete and emailed to Patty Lovins at patty@getlinkedmadison.com by July 30\, 2023.Payment must be <strong>HERE</strong> in order to confirm your registration.<br />\n<br />\nIf you need further assistance\, please contact Patty Lovins at 765-642-0264 or email at Patty@getlinkedmadison.com
LOCATION:Meridian Street between 11th -13th Streets Dickmann Town Center Anderson\, IN 46016
UID:e.1371.12710
SEQUENCE:3
DTSTAMP:20260422T220214Z
URL:http://business.madisoncountyalliance.org/events/details/2023-taste-of-madison-county-vendor-registration-12710
END:VEVENT

END:VCALENDAR
