BEGIN:VCALENDAR
VERSION:2.0
PRODID:-//ChamberMaster//Event Calendar 2.0//EN
METHOD:PUBLISH
X-PUBLISHED-TTL:P3D
REFRESH-INTERVAL:P3D
CALSCALE:GREGORIAN
BEGIN:VEVENT
DTSTART:20240716T210000Z
DTEND:20240716T230000Z
X-MICROSOFT-CDO-ALLDAYEVENT:FALSE
SUMMARY:2024 Chamber of the Year Celebration
DESCRIPTION:2024 Chamber of the Year Celebration \n\nJuly 16\, 2024\n\n5:00 - 7:00 p.m.\n\nHarrah's Hoosier Park\n\nTrackside Lower Level\n\n4500 Dan Patch Circle\, Anderson
X-ALT-DESC;FMTTYPE=text/html:2024 Chamber of the Year Celebration&nbsp\;<br />\nJuly 16\, 2024<br />\n5:00 - 7:00 p.m.<br />\nHarrah&#39\;s Hoosier Park<br />\nTrackside Lower Level<br />\n4500 Dan Patch Circle\, Anderson<br />\n&nbsp\;
LOCATION:Harrah's Hoosier Park Trackside - Lower Level 4500 Dan Patch Circle\, Anderson
UID:e.1371.18890
SEQUENCE:3
DTSTAMP:20260422T072033Z
URL:http://business.madisoncountyalliance.org/events/details/2024-chamber-of-the-year-celebration-18890
END:VEVENT

END:VCALENDAR
