BEGIN:VCALENDAR
VERSION:2.0
PRODID:-//ChamberMaster//Event Calendar 2.0//EN
METHOD:PUBLISH
X-PUBLISHED-TTL:P3D
REFRESH-INTERVAL:P3D
CALSCALE:GREGORIAN
BEGIN:VEVENT
DTSTART:20240618T150000Z
DTEND:20240618T220000Z
X-MICROSOFT-CDO-ALLDAYEVENT:FALSE
SUMMARY:2024 Madison County Credit Boost Challenge
DESCRIPTION:REPAIR YOUR PERSONAL CREDIT / SECURE FUNDING FOR YOUR BUSINESS YOU WILL LEARN: How to repair your personal credit by understanding your credit report and what affects your credit score Practical tips to build your personal and business credit ADDITIONAL BENEFITS: A $1\,000 credit booster loan Earn up to $250 per quarter Set up a booth at no cost at our pop-up marketplace ELIGIBILITY REQUIREMENTS: Must be a small business within Madison County\, Indiana PLEASE NOTE: A select number of participants will be chosen to participate in the Credit Boost Challenge. If you have been chosen to participate in the program\, you will receive an email with further instructions and information from our Community Relationship Manager\, Stacey Walston.
X-ALT-DESC;FMTTYPE=text/html:REPAIR YOUR PERSONAL CREDIT / SECURE FUNDING FOR YOUR BUSINESS YOU WILL LEARN: How to repair your personal credit by understanding your credit report and what affects your credit score Practical tips to build your personal and business credit ADDITIONAL BENEFITS: A $1\,000 credit booster loan Earn up to $250 per quarter Set up a booth at no cost at our pop-up marketplace ELIGIBILITY REQUIREMENTS: Must be a small business within Madison County\, Indiana PLEASE NOTE: A select number of participants will be chosen to participate in the Credit Boost Challenge. If you have been chosen to participate in the program\, you will receive an email with further instructions and information from our Community Relationship Manager\, Stacey Walston.
LOCATION:Flagship Enterprise Center 2701 Enterprise Drive Anderson\, IN 46013
UID:e.1371.18869
SEQUENCE:3
DTSTAMP:20260422T085834Z
URL:http://business.madisoncountyalliance.org/events/details/2024-madison-county-credit-boost-challenge-18869
END:VEVENT

END:VCALENDAR
