BEGIN:VCALENDAR
VERSION:2.0
PRODID:-//ChamberMaster//Event Calendar 2.0//EN
METHOD:PUBLISH
X-PUBLISHED-TTL:P3D
REFRESH-INTERVAL:P3D
CALSCALE:GREGORIAN
BEGIN:VEVENT
DTSTART:20240307T230000Z
DTEND:20240308T020000Z
X-MICROSOFT-CDO-ALLDAYEVENT:FALSE
SUMMARY:2024 MCC Annual Awards Celebration
DESCRIPTION:Registration Closed\n\n2024 MCC Annual Awards Celebration\n\nThursday\, March 7th\n\nHarrah's Hoosier Park\n\n6:00 - 7:00 p.m. Hors d'oeuvres & Cash Bar\n\n7:00 p.m. Awards Program\n\n \n\n\nPresenting Sponsor: Community Hospital Anderson\n\nAnniversary Awards Sponsor:  Harrah's Hoosier Park\n\nPrint Partner:  JAM Printing\n\n \n\n\n \n\nJoin us for a time of celebrating and honoring\n\nMCC Madison County businesses\n\n\n\nIf you celebrated a milestone Anniversary in 2022 or are celebrating one in 2023\, please call our office so that we can honor you during this luncheon.\n\n (Milestone Anniversaries Years beginning with 25\, ie\; 25\, 30\, 35\, 40\, etc.)\n\n\n\n\n\n\n\nSPONSORSHIPS AVAILABLE\n\n\n\n \n\nGold Sponsorship  $1\,500\n\nThis sponsorship includes six tickets to the event with reserved seating.  Also included is a half-page ad in the printed program\, your company logo on sponsor signage at the event and your logo and link on the MCC website and social media.\n\n\n\nSilver Sponsorship  $1\,000\n\nThis sponsorship includes four tickets to the event.  Also included is a quarter-page ad in the printed program\, your company logo on sponsor signage at the event and your logo and link on the MCC website and social media.\n\n\n\nBronze Sponsorship  $500\n\nIncludes two tickets to the event.  Also included is your name in our printed program\, sponsor signage at the event and listed on the MCC website and social media.\n\n\n\nAnnual Luncheon Individual Ticket  $35\n\nIncludes hors d'oeuvres and program\n\nCash Bar available\n\n\n \n\nFOR SPONSORSHIP INFORMATION\, EMAIL PATTY LOVINS\n\nPATTY@GETLINKEDMADISON.COM\n\n\n\nLocation\n\n\n\nHoosier Park Racing & Casino\n\n4500 Dan Patch Circle\n\nAnderson\, IN 46013\n\n \n\nGeneral information and to purchase tickets:\n\nMadison County Chamber\n765-642-0264
X-ALT-DESC;FMTTYPE=text/html:<div>\n<div style="text-align: center\;"><span style="font-size:36px\;"><span style="color:#FF0000\;">Registration Closed</span></span><br />\n<strong style="font-size: 22px\; text-align: center\;"><span style="font-size:24px\;">2024&nbsp\;MCC Annual Awards Celebration</span></strong></div>\n\n<div style="text-align: center\;"><strong><span style="font-size:26px\;"><span style="font-size:20px\;">Thursday\, March 7th<br />\nHarrah&#39\;s Hoosier Park<br />\n6:00 - 7:00 p.m. Hors d&#39\;oeuvres &amp\; Cash Bar<br />\n7:00 p.m. Awards Program</span></span></strong><br />\n&nbsp\;</div>\n</div>\n\n<div><span style="font-size:26px\;"><span style="font-size:20px\;">Presenting Sponsor:&nbsp\;<strong>Community Hospital Anderson</strong><br />\nAnniversary Awards Sponsor:<strong>&nbsp\; Harrah&#39\;s Hoosier Park</strong><br />\nPrint Partner:<strong>&nbsp\; JAM Printing</strong></span></span><br />\n&nbsp\;</div>\n\n<div>\n<div font-size:="" style="color: rgb(51\, 51\, 51)\; font-family: sans-serif\, Arial\, Verdana\, " text-align:="" trebuchet="">&nbsp\;</div>\n\n<div font-size:="" style="color: rgb(51\, 51\, 51)\; text-align: center\;" text-align:="" trebuchet=""><strong><span style="font-size:24px\;">Join us&nbsp\;<span background-color:="" class="cm_editor_fix" font-size:="" text-align:="" trebuchet="">for a time of&nbsp\;celebrating and honoring</span></span></strong><br />\n<span style="font-size: 20px\;"><strong><span style="font-size:24px\;">MCC Madison County businesses</span></strong><br />\n<br />\nIf you celebrated a milestone Anniversary in 2022 or are celebrating one in 2023\, please call our office so that we can honor you during this luncheon.<br />\n&nbsp\;(Milestone Anniversaries Years beginning with 25\, ie\; 25\, 30\, 35\, 40\, etc.)</span><br />\n<br />\n<br />\n<br />\n<span style="font-size: 22px\;"><span style="font-size:20px\;"><strong>SPONSORSHIPS AVAILABLE</strong></span></span><br />\n<br />\n&nbsp\;</div>\n\n<div font-size:="" style="color: rgb(51\, 51\, 51)\; font-family: sans-serif\, Arial\, Verdana\, " trebuchet=""><span style="font-size:16px\;"><strong>Gold Sponsorship&nbsp\; $1\,500</strong></span><br />\n<span background-color:="" font-size:="" style="color: rgb(51\, 51\, 51)\; font-family: sans-serif\, Arial\, Verdana\, " trebuchet="">This sponsorship includes six&nbsp\;tickets to the event with <em>reserved seating</em>.&nbsp\;&nbsp\;</span><span style="font-size:16px\;">Also included is a half-page ad in the printed program\, your company logo on sponsor signage at the event and your logo&nbsp\;and link on the MCC website and social media.<br />\n<br />\n<strong>Silver Sponsorship&nbsp\; $1\,000</strong></span><br />\n<span style="font-size:16px\;">This sponsorship includes four tickets to the event.&nbsp\; Also included is a quarter-page ad in the printed program\, your company logo on&nbsp\;sponsor&nbsp\;signage at the event and your logo and link on the MCC website and social media.<br />\n<br />\n<strong>Bronze Sponsorship&nbsp\; $500</strong><br />\nIncludes two tickets to the event.&nbsp\; Also included is your name in our printed program\, sponsor signage at the event and listed on the MCC website and social media.<br />\n<br />\n<strong>Annual Luncheon Individual Ticket&nbsp\; $35</strong><br />\nIncludes hors d&#39\;oeuvres&nbsp\;and program<br />\nCash Bar available</span></div>\n<br />\n&nbsp\;</div>\n\n<div><span style="font-size:18px\;"><strong><span style="color:#FF0000\;"><span background-color:="" class="cm_editor_fix" font-size:="" text-align:="" trebuchet="">FOR SPONSORSHIP INFORMATION\, EMAIL PATTY LOVINS</span></span></strong></span></div>\n\n<div><span style="font-size:18px\;"><strong><span style="color:#FF0000\;"><span background-color:="" class="cm_editor_fix" font-size:="" text-align:="" trebuchet="">PATTY@GETLINKEDMADISON.COM</span></span></strong></span><br />\n<br />\n<span background-color:="" class="cm_editor_fix" font-size:="" style="color: rgb(51\, 51\, 51)\; font-family: sans-serif\, Arial\, Verdana\, " text-align:="" trebuchet=""><span style="font-size: 22px\;">Location</span></span></div>\n\n<div>\n<div background-color:="" class="mn-event-content" font-size:="" style="color: rgb(51\, 51\, 51)\; font-family: sans-serif\, Arial\, Verdana\, " text-align:="" trebuchet="">\n<div class="mn-raw mn-print-url" style="text-align: left\;">Hoosier Park Racing &amp\; Casino<br />\n4500 Dan Patch Circle<br />\nAnderson\, IN 46013<br />\n&nbsp\;</div>\n</div>\n<span background-color:="" class="cm_editor_fix" font-size:="" style="color: rgb(51\, 51\, 51)\; font-family: sans-serif\, Arial\, Verdana\, " text-align:="" trebuchet=""><span style="font-size: 22px\;">General information and to purchase tickets:</span></span>\n\n<div>Madison County Chamber</div>\n<span background-color:="" font-size:="" style="color: rgb(51\, 51\, 51)\; font-family: sans-serif\, Arial\, Verdana\, " text-align:="" trebuchet="">765-642-0264</span><br background-color:="" font-size:="" style="color: rgb(51\, 51\, 51)\; font-family: sans-serif\, Arial\, Verdana\, " text-align:="" trebuchet="" />\n&nbsp\;\n<hr background-color:="" font-size:="" style="border-right: 0px\; border-bottom: 0px\; border-left: 0px\; border-image: initial\; border-top-style: solid\; border-top-color: rgb(204\, 204\, 204)\; color: rgb(51\, 51\, 51)\; font-family: sans-serif\, Arial\, Verdana\, " text-align:="" trebuchet="" />\n<div background-color:="" font-size:="" style="color: rgb(51\, 51\, 51)\; font-family: sans-serif\, Arial\, Verdana\, " text-align:="" trebuchet="">&nbsp\;</div>\n</div>\n
LOCATION:Harrah's Hoosier Park 4500 Dan Patch Circle Anderson\, IN 46013
UID:e.1371.18848
SEQUENCE:3
DTSTAMP:20260422T132432Z
URL:http://business.madisoncountyalliance.org/events/details/2024-mcc-annual-awards-celebration-18848
END:VEVENT

END:VCALENDAR
