BEGIN:VCALENDAR
VERSION:2.0
PRODID:-//ChamberMaster//Event Calendar 2.0//EN
METHOD:PUBLISH
X-PUBLISHED-TTL:P3D
REFRESH-INTERVAL:P3D
CALSCALE:GREGORIAN
BEGIN:VEVENT
DTSTART:20241024T153000Z
DTEND:20241024T170000Z
X-MICROSOFT-CDO-ALLDAYEVENT:FALSE
SUMMARY:2024 State of The County
DESCRIPTION:Registration closes Wednesday at 10:00 a.m\n\n\n\nOctober 24\, 2024   11:30 a.m.\n\nHarrah's Hoosier Park\n\nTickets $45 each includes lunch
X-ALT-DESC;FMTTYPE=text/html:<div style="text-align: center\;"><em><strong>Registration closes Wednesday at 10:00 a.m</strong></em><br />\n<br />\n<span style="font-size:20px\;">October 24\, 2024 &bull\; 11:30 a.m.<br />\nHarrah&#39\;s Hoosier Park<br />\nTickets $45&nbsp\;each includes lunch</span></div>\n<br />\n<br />\n<br />\n<br />\n<br />\n<br />\n<br />\n&nbsp\;
LOCATION:Harrah's Hoosier Park Racing and Casino 4500 Dan Patch Circle Anderson\, IN 46013
UID:e.1371.18932
SEQUENCE:3
DTSTAMP:20260422T024542Z
URL:http://business.madisoncountyalliance.org/events/details/2024-state-of-the-county-18932
END:VEVENT

END:VCALENDAR
