BEGIN:VCALENDAR
VERSION:2.0
PRODID:-//ChamberMaster//Event Calendar 2.0//EN
METHOD:PUBLISH
X-PUBLISHED-TTL:P3D
REFRESH-INTERVAL:P3D
CALSCALE:GREGORIAN
BEGIN:VEVENT
DTSTART:20251105T163000Z
DTEND:20251105T180000Z
X-MICROSOFT-CDO-ALLDAYEVENT:FALSE
SUMMARY:2025 Future of Madison County
DESCRIPTION:Future of Madison County\n\nNovember 5\, 2025 \n\nHarrah's Hoosier Park\n\nTickets $45 each includes lunch\n\n\n\nBuffet open 11:30 a.m.\n\nProgram begins at 12:00 noon
X-ALT-DESC;FMTTYPE=text/html:<div style="text-align: center\;"><span style="font-size:24px\;">Future of Madison County</span><br />\n<span style="font-size:20px\;">November 5\, 2025&nbsp\;<br />\nHarrah&#39\;s Hoosier Park<br />\nTickets $45&nbsp\;each includes lunch<br />\n<br />\nBuffet open 11:30 a.m.<br />\nProgram begins at 12:00 noon</span></div>\n<br />\n<br />\n<br />\n<br />\n<br />\n<br />\n<br />\n&nbsp\;
LOCATION:Harrah's Hoosier Park Racing and Casino 4500 Dan Patch Circle Anderson\, IN 46013
UID:e.1371.19139
SEQUENCE:3
DTSTAMP:20260421T095527Z
URL:http://business.madisoncountyalliance.org/events/details/2025-future-of-madison-county-19139
END:VEVENT

END:VCALENDAR
