BEGIN:VCALENDAR
VERSION:2.0
PRODID:-//ChamberMaster//Event Calendar 2.0//EN
METHOD:PUBLISH
X-PUBLISHED-TTL:P3D
REFRESH-INTERVAL:P3D
CALSCALE:GREGORIAN
BEGIN:VEVENT
DTSTART:20250313T220000Z
DTEND:20250314T010000Z
X-MICROSOFT-CDO-ALLDAYEVENT:FALSE
SUMMARY:2025 MCC Annual Awards Celebration
DESCRIPTION:Sold Out\n\n2025 MCC Annual Awards Celebration\n\nThursday\, March 13th\n\nThe Paramount Theater\n\n6:00 - 7:00 p.m. Cocktail Hour\n\n7:00 p.m. Awards Program\n\n \n\n\nPresenting Sponsor: Community Hospital\n\nAnniversary Awards Sponsor:  Harrah's Hoosier Park\n\nPrint Partner:  JAM Printing\n\n \n\n\n \n\nJoin us for a time of celebrating and honoring\n\nMCC Madison County businesses\n\n\n\nIf you are celebrating a milestone Anniversary in 2025 or are please call our office so that we can honor you during this event.\n\n (Milestone Anniversaries Years beginning with 25\, ie\; 25\, 30\, 35\, 40\, etc.)\n\n\n\n\n\n\n\nSPONSORSHIPS AVAILABLE\n\n\n\n \n\n\n\n\n\n\n\n\n\n\n\nAnnual Awards Individual Ticket  $55\n\nIncludes hors d'oeuvres and program\n\nCash Bar available\n\n\n \n\nFOR SPONSORSHIP INFORMATION\, EMAIL PATTY LOVINS\n\nPATTY@GETLINKEDMADISON.COM\n\n\n\nLocation\n\n\n\nThe Paramount Theater\n\n \n\nGeneral information and to purchase tickets:\n\nMadison County Chamber\n765-642-0264
X-ALT-DESC;FMTTYPE=text/html:<div>\n<div style="text-align: center\;"><span style="font-size:28px\;"><span style="color:#FF0000\;">Sold Out</span></span><br />\n<strong style="font-size: 22px\; text-align: center\;"><span style="font-size:24px\;">2025&nbsp\;MCC Annual Awards Celebration</span></strong></div>\n\n<div style="text-align: center\;"><strong><span style="font-size:26px\;"><span style="font-size:20px\;">Thursday\, March&nbsp\;13th<br />\nThe Paramount Theater<br />\n6:00 - 7:00 p.m. Cocktail Hour<br />\n7:00 p.m. Awards Program</span></span></strong><br />\n&nbsp\;</div>\n</div>\n\n<div><span style="font-size:26px\;"><span style="font-size:20px\;">Presenting Sponsor: <strong>Community Hospital</strong><br />\nAnniversary Awards Sponsor:<strong>&nbsp\; Harrah&#39\;s Hoosier Park</strong><br />\nPrint Partner:<strong>&nbsp\; JAM Printing</strong></span></span><br />\n&nbsp\;</div>\n\n<div>\n<div font-size:="" style="color: rgb(51\, 51\, 51)\; font-family: sans-serif\, Arial\, Verdana\, " text-align:="" trebuchet="">&nbsp\;</div>\n\n<div font-size:="" style="color: rgb(51\, 51\, 51)\; text-align: center\;" text-align:="" trebuchet=""><strong><span style="font-size:24px\;">Join us&nbsp\;<span background-color:="" class="cm_editor_fix" font-size:="" text-align:="" trebuchet="">for a time of&nbsp\;celebrating and honoring</span></span></strong><br />\n<span style="font-size: 20px\;"><strong><span style="font-size:24px\;">MCC Madison County businesses</span></strong><br />\n<br />\nIf you are celebrating&nbsp\;a milestone Anniversary in 2025 or are please call our office so that we can honor you during this event.<br />\n&nbsp\;(Milestone Anniversaries Years beginning with 25\, ie\; 25\, 30\, 35\, 40\, etc.)</span><br />\n<br />\n<br />\n<br />\n<span style="font-size: 22px\;"><span style="font-size:20px\;"><strong>SPONSORSHIPS AVAILABLE</strong></span></span><br />\n<br />\n&nbsp\;</div>\n\n<div font-size:="" style="color: rgb(51\, 51\, 51)\; font-family: sans-serif\, Arial\, Verdana\, " trebuchet=""><br />\n<br />\n<br />\n<br />\n<br />\n<span style="font-size:16px\;"><strong>Annual Awards Individual Ticket&nbsp\; $55</strong><br />\nIncludes hors d&#39\;oeuvres&nbsp\;and program<br />\nCash Bar available</span></div>\n<br />\n&nbsp\;</div>\n\n<div><span style="font-size:18px\;"><strong><span style="color:#FF0000\;"><span background-color:="" class="cm_editor_fix" font-size:="" text-align:="" trebuchet="">FOR SPONSORSHIP INFORMATION\, EMAIL PATTY LOVINS</span></span></strong></span></div>\n\n<div><span style="font-size:18px\;"><strong><span style="color:#FF0000\;"><span background-color:="" class="cm_editor_fix" font-size:="" text-align:="" trebuchet="">PATTY@GETLINKEDMADISON.COM</span></span></strong></span><br />\n<br />\n<span background-color:="" class="cm_editor_fix" font-size:="" style="color: rgb(51\, 51\, 51)\; font-family: sans-serif\, Arial\, Verdana\, " text-align:="" trebuchet=""><span style="font-size: 22px\;">Location</span></span></div>\n\n<div>\n<div background-color:="" class="mn-event-content" font-size:="" style="color: rgb(51\, 51\, 51)\; font-family: sans-serif\, Arial\, Verdana\, " text-align:="" trebuchet="">\n<div class="mn-raw mn-print-url" style="text-align: left\;">The Paramount Theater<br />\n&nbsp\;</div>\n</div>\n<span background-color:="" class="cm_editor_fix" font-size:="" style="color: rgb(51\, 51\, 51)\; font-family: sans-serif\, Arial\, Verdana\, " text-align:="" trebuchet=""><span style="font-size: 22px\;">General information and to purchase tickets:</span></span>\n\n<div>Madison County Chamber</div>\n<span background-color:="" font-size:="" style="color: rgb(51\, 51\, 51)\; font-family: sans-serif\, Arial\, Verdana\, " text-align:="" trebuchet="">765-642-0264</span><br background-color:="" font-size:="" style="color: rgb(51\, 51\, 51)\; font-family: sans-serif\, Arial\, Verdana\, " text-align:="" trebuchet="" />\n&nbsp\;\n<hr background-color:="" font-size:="" style="border-right: 0px\; border-bottom: 0px\; border-left: 0px\; border-image: initial\; border-top-style: solid\; border-top-color: rgb(204\, 204\, 204)\; color: rgb(51\, 51\, 51)\; font-family: sans-serif\, Arial\, Verdana\, " text-align:="" trebuchet="" />\n<div background-color:="" font-size:="" style="color: rgb(51\, 51\, 51)\; font-family: sans-serif\, Arial\, Verdana\, " text-align:="" trebuchet="">&nbsp\;</div>\n</div>\n
LOCATION:The Paramount Theater
UID:e.1371.18961
SEQUENCE:3
DTSTAMP:20260421T195749Z
URL:http://business.madisoncountyalliance.org/events/details/2025-mcc-annual-awards-celebration-18961
END:VEVENT

END:VCALENDAR
