BEGIN:VCALENDAR
VERSION:2.0
PRODID:-//ChamberMaster//Event Calendar 2.0//EN
METHOD:PUBLISH
X-PUBLISHED-TTL:P3D
REFRESH-INTERVAL:P3D
CALSCALE:GREGORIAN
BEGIN:VEVENT
DTSTART:20230624T200000Z
DTEND:20230624T220000Z
X-MICROSOFT-CDO-ALLDAYEVENT:FALSE
SUMMARY:20th Anniversary Celebration
DESCRIPTION:Come Celebrate With Storage Of America! We will have free large pizza's and T-shirts for the first 100 guests. Face painting and balloon twisting will be available for free from 4 PM to 6 PM.
X-ALT-DESC;FMTTYPE=text/html:Come Celebrate With Storage Of America! We will have free large pizza&#39\;s and T-shirts for the first 100 guests. Face painting and balloon twisting will be available for free from 4 PM to 6 PM.
LOCATION:2828 Broadway Street\, Anderson\, IN 46012
UID:e.1371.18293
SEQUENCE:3
DTSTAMP:20260423T021818Z
URL:http://business.madisoncountyalliance.org/events/details/20th-anniversary-celebration-06-24-2023-18293
END:VEVENT

END:VCALENDAR
