BEGIN:VCALENDAR
VERSION:2.0
PRODID:-//ChamberMaster//Event Calendar 2.0//EN
METHOD:PUBLISH
X-PUBLISHED-TTL:P3D
REFRESH-INTERVAL:P3D
CALSCALE:GREGORIAN
BEGIN:VEVENT
DTSTART:20230624T150000Z
DTEND:20230624T170000Z
X-MICROSOFT-CDO-ALLDAYEVENT:FALSE
SUMMARY:20th Anniversary Celebration
DESCRIPTION:Come Celebrate with Storage Of America! We will have Free Large Pizza and T-Shirts for the first 100 guests. Free face painting and balloon twisting from 11 AM to 1 PM
X-ALT-DESC;FMTTYPE=text/html:Come Celebrate with Storage Of America! We will have Free Large Pizza and T-Shirts for the first 100 guests. Free face painting and balloon twisting from 11 AM to 1 PM
LOCATION:1201 E 5th Street\, Anderson\, IN 46012
UID:e.1371.18292
SEQUENCE:3
DTSTAMP:20260423T021705Z
URL:http://business.madisoncountyalliance.org/events/details/20th-anniversary-celebration-18292
END:VEVENT

END:VCALENDAR
