BEGIN:VCALENDAR
VERSION:2.0
PRODID:-//ChamberMaster//Event Calendar 2.0//EN
METHOD:PUBLISH
X-PUBLISHED-TTL:P3D
REFRESH-INTERVAL:P3D
CALSCALE:GREGORIAN
BEGIN:VEVENT
DTSTART:20230324T233000Z
DTEND:20230325T013000Z
X-MICROSOFT-CDO-ALLDAYEVENT:FALSE
SUMMARY:38 Special
DESCRIPTION:Legendary Southern rock band 38 Special produced hits including "Hold On Loosely\," "Rockin' Into The Night\," "Caught Up In You\," "Fantasy Girl\," "Back Where You Belong\," "Second Chance\," and more.
X-ALT-DESC;FMTTYPE=text/html:Legendary Southern rock band 38 Special produced hits including &ldquo\;Hold On Loosely\,&rdquo\; &ldquo\;Rockin&rsquo\; Into The Night\,&rdquo\; &ldquo\;Caught Up In You\,&rdquo\; &ldquo\;Fantasy Girl\,&rdquo\; &ldquo\;Back Where You Belong\,&rdquo\; &ldquo\;Second Chance\,&rdquo\; and more.
LOCATION:The Paramount Theatre
UID:e.1371.12294
SEQUENCE:3
DTSTAMP:20260423T083339Z
URL:http://business.madisoncountyalliance.org/events/details/38-special-12294
END:VEVENT

END:VCALENDAR
