BEGIN:VCALENDAR
VERSION:2.0
PRODID:-//ChamberMaster//Event Calendar 2.0//EN
METHOD:PUBLISH
X-PUBLISHED-TTL:P3D
REFRESH-INTERVAL:P3D
CALSCALE:GREGORIAN
BEGIN:VEVENT
DTSTART:20230402T170000Z
DTEND:20230527T160000Z
X-MICROSOFT-CDO-ALLDAYEVENT:FALSE
SUMMARY:42nd In-Focus Photography Competition & Exhibit
DESCRIPTION:Open to Hoosier photographers 18 years and older. Photos can go into 1 of 7 categories: Animal/Wildlife\, Architecture\, Digital Manipulation\, Nature/Scenic\, Open\, People\, and Photojournalism. Open Reception: Sunday\, April 2 with awards at 2:30 pm.
X-ALT-DESC;FMTTYPE=text/html:Open to Hoosier photographers 18 years and older. Photos can go into 1 of 7 categories: Animal/Wildlife\, Architecture\, Digital Manipulation\, Nature/Scenic\, Open\, People\, and Photojournalism. Open Reception: Sunday\, April 2 with awards at 2:30 pm.
LOCATION:Anderson Museum of Art
UID:e.1371.12479
SEQUENCE:3
DTSTAMP:20260423T034456Z
URL:http://business.madisoncountyalliance.org/events/details/42nd-in-focus-photography-competition-exhibit-12479
END:VEVENT

END:VCALENDAR
