BEGIN:VCALENDAR
VERSION:2.0
PRODID:-//ChamberMaster//Event Calendar 2.0//EN
METHOD:PUBLISH
X-PUBLISHED-TTL:P3D
REFRESH-INTERVAL:P3D
CALSCALE:GREGORIAN
BEGIN:VEVENT
DTSTART:20240511T140000Z
DTEND:20240511T190000Z
X-MICROSOFT-CDO-ALLDAYEVENT:FALSE
SUMMARY:AMOA Day!
DESCRIPTION:Celebrate 25 years of art and community at AMOA's 25th Anniversary Celebration at the Historic Carnegie Library during AMOA Day on May 11\, 2024 from 10 am to 3 pm. Enjoy a day filled with hands-on art-making activities\, live demonstrations by local artists\, and a chance to contribute to the creation of AMOA's new indoor mural. Take advantage of this opportunity to join the festivities and be part of our vibrant community of creativity and innovation. Don't miss out on this AMOAzing celebration during AMOA Day. Join us as we embark on the next chapter of our journey together. For more information\, please visit andersonart.org/amoaday.
X-ALT-DESC;FMTTYPE=text/html:Celebrate 25 years of art and community at AMOA&#39\;s 25th Anniversary Celebration at the Historic Carnegie Library during AMOA Day on May 11\, 2024 from 10 am to 3 pm. Enjoy a day filled with hands-on art-making activities\, live demonstrations by local artists\, and a chance to contribute to the creation of AMOA&#39\;s new indoor mural. Take advantage of this opportunity to join the festivities and be part of our vibrant community of creativity and innovation. Don&#39\;t miss out on this AMOAzing celebration during AMOA Day. Join us as we embark on the next chapter of our journey together. For more information\, please visit andersonart.org/amoaday.
LOCATION:Anderson Museum of Art 32 Hst W 10th St\, Anderson\, IN 46016
UID:e.1371.18865
SEQUENCE:3
DTSTAMP:20260422T102748Z
URL:http://business.madisoncountyalliance.org/events/details/amoa-day-18865
END:VEVENT

END:VCALENDAR
