BEGIN:VCALENDAR
VERSION:2.0
PRODID:-//ChamberMaster//Event Calendar 2.0//EN
METHOD:PUBLISH
X-PUBLISHED-TTL:P3D
REFRESH-INTERVAL:P3D
CALSCALE:GREGORIAN
BEGIN:VEVENT
DTSTART;VALUE=DATE:20230420
DTEND;VALUE=DATE:20230421
TRANSP:TRANSPARENT
X-MICROSOFT-CDO-ALLDAYEVENT:TRUE
SUMMARY:AMOA Day Trip to Newfields
DESCRIPTION:Anderson Museum of Art (AMOA) invites the public to register for a Day Trip to Newfields campus in Indianapolis to tour THE LUME: Monet & Friends Alive on April 20\, 2023. The cost for the trip is $75 or $65 for AMOA Members. THE LUME INDIANAPOLIS (https://discovernewfields.org/lume) Step into an immersive world of digital art at THE LUME Indianapolis and explore the combination of art and cutting-edge technology with floor to ceiling projections of some of the most famous paintings in the world. Monet & Friends Alive is a completely unique experience for the senses. You won't want to miss this larger-than-life journey into the Impressionist brush strokes of Monet\, Pissarro\, Renoir\, C zanne\, and more\, that defined 19th-century Paris. AMOA's Day trip will include a light breakfast snack museum\, a charter bus ride to Newfields\, and access to THE LUME and the entire Newfield's campus.
X-ALT-DESC;FMTTYPE=text/html:Anderson Museum of Art (AMOA) invites the public to register for a Day Trip to Newfields campus in Indianapolis to tour THE LUME: Monet &amp\; Friends Alive on April 20\, 2023. The cost for the trip is $75 or $65 for AMOA Members. THE LUME INDIANAPOLIS (https://discovernewfields.org/lume) Step into an immersive world of digital art at THE LUME Indianapolis and explore the combination of art and cutting-edge technology with floor to ceiling projections of some of the most famous paintings in the world. Monet &amp\; Friends Alive is a completely unique experience for the senses. You won&#39\;t want to miss this larger-than-life journey into the Impressionist brush strokes of Monet\, Pissarro\, Renoir\, C&eacute\;zanne\, and more\, that defined 19th-century Paris. AMOA&rsquo\;s Day trip will include a light breakfast snack museum\, a charter bus ride to Newfields\, and access to THE LUME and the entire Newfield&rsquo\;s campus.
LOCATION:
UID:e.1371.12487
SEQUENCE:3
DTSTAMP:20260423T051346Z
URL:http://business.madisoncountyalliance.org/events/details/amoa-day-trip-to-newfields-12487
END:VEVENT

END:VCALENDAR
