BEGIN:VCALENDAR
VERSION:2.0
PRODID:-//ChamberMaster//Event Calendar 2.0//EN
METHOD:PUBLISH
X-PUBLISHED-TTL:P3D
REFRESH-INTERVAL:P3D
CALSCALE:GREGORIAN
BEGIN:VEVENT
DTSTART:20230520T230000Z
DTEND:20230521T030000Z
X-MICROSOFT-CDO-ALLDAYEVENT:FALSE
SUMMARY:AMOA Women's League 1920’s Party
DESCRIPTION:Tickets are now on sale for a roaring 1920s party\, hosted by the Anderson Museum of Art (AMOA) Women's League\, and sponsored by Community Hospital Anderson\, on May 20\, 2023\, at the Historic Carnegie Library building where the museum is housed. Tickets are $40\, and include admission\, hors devours from Cultured Urban Winery\, and a fantastic evening of entertainment with Indianapolis Jazz Orchestra featuring Rick Vale.
X-ALT-DESC;FMTTYPE=text/html:Tickets are now on sale for a roaring 1920s party\, hosted by the Anderson Museum of Art (AMOA) Women&rsquo\;s League\, and sponsored by Community Hospital Anderson\, on May 20\, 2023\, at the Historic Carnegie Library building where the museum is housed. Tickets are $40\, and include admission\, hors devours from Cultured Urban Winery\, and a fantastic evening of entertainment with Indianapolis Jazz Orchestra featuring Rick Vale.
LOCATION:Anderson Museum of Art 32 W 10th Street Anderson IN 46016
UID:e.1371.12488
SEQUENCE:3
DTSTAMP:20260423T034526Z
URL:http://business.madisoncountyalliance.org/events/details/amoa-women-s-league-1920-s-party-12488
END:VEVENT

END:VCALENDAR
