BEGIN:VCALENDAR
VERSION:2.0
PRODID:-//ChamberMaster//Event Calendar 2.0//EN
METHOD:PUBLISH
X-PUBLISHED-TTL:P3D
REFRESH-INTERVAL:P3D
CALSCALE:GREGORIAN
BEGIN:VEVENT
DTSTART:20230813T170000Z
DTEND:20230813T190000Z
X-MICROSOFT-CDO-ALLDAYEVENT:FALSE
SUMMARY:AMOAzing Celebrations Open House
DESCRIPTION:Mark your calendars to visit AMOA for an open house to explore our venue rental opportunities on Sunday\, August 13 from 1-3 PM. Local vendors have been invited to showcase their offerings alongside AMOA. If you are planning a wedding\, birthday party\, reunion\, or holiday party\, we encourage you to visit to learn more about us! The event is free and open to the public.
X-ALT-DESC;FMTTYPE=text/html:Mark your calendars to visit AMOA for an open house to explore our venue rental opportunities on Sunday\, August 13 from 1-3 PM. Local vendors have been invited to showcase their offerings alongside AMOA. If you are planning a wedding\, birthday party\, reunion\, or holiday party\, we encourage you to visit to learn more about us! The event is free and open to the public.
LOCATION:Anderson Museum of Art
UID:e.1371.18328
SEQUENCE:3
DTSTAMP:20260422T232728Z
URL:http://business.madisoncountyalliance.org/events/details/amoazing-celebrations-open-house-18328
END:VEVENT

END:VCALENDAR
