BEGIN:VCALENDAR
VERSION:2.0
PRODID:-//ChamberMaster//Event Calendar 2.0//EN
METHOD:PUBLISH
X-PUBLISHED-TTL:P3D
REFRESH-INTERVAL:P3D
CALSCALE:GREGORIAN
BEGIN:VEVENT
DTSTART:20240427T230000Z
DTEND:20240428T023000Z
X-MICROSOFT-CDO-ALLDAYEVENT:FALSE
SUMMARY:Anderson Arts League Sock Hop
DESCRIPTION:Join us for a night of nostalgic fun as we transport you back to the fabulous '50s. Put on your poodle skirts\, slick back your hair\, and grab your saddle shoes for an evening filled with live DJ\, delicious snacks\, and swingin' dance moves. Special guest appearance by the one and only Elvis (Scotty Zion). All proceeds benefit the Anderson Arts League's mission to support arts programming through the Anderson Museum of Art
X-ALT-DESC;FMTTYPE=text/html:Join us for a night of nostalgic fun as we transport you back to the fabulous &#39\;50s. Put on your poodle skirts\, slick back your hair\, and grab your saddle shoes for an evening filled with live DJ\, delicious snacks\, and swingin&#39\; dance moves. Special guest appearance by the one and only Elvis (Scotty Zion). All proceeds benefit the Anderson Arts League&#39\;s mission to support arts programming through the Anderson Museum of Art
LOCATION:Anderson Museum of Art 32 Hst W 10th St\, Anderson\, IN 46016
UID:e.1371.18867
SEQUENCE:3
DTSTAMP:20260422T115400Z
URL:http://business.madisoncountyalliance.org/events/details/anderson-arts-league-sock-hop-18867
END:VEVENT

END:VCALENDAR
