BEGIN:VCALENDAR
VERSION:2.0
PRODID:-//ChamberMaster//Event Calendar 2.0//EN
METHOD:PUBLISH
X-PUBLISHED-TTL:P3D
REFRESH-INTERVAL:P3D
CALSCALE:GREGORIAN
BEGIN:VEVENT
DTSTART:20230703T210000Z
DTEND:20230704T010000Z
X-MICROSOFT-CDO-ALLDAYEVENT:FALSE
SUMMARY:Anderson Municipal Airport Airshow & Town of Chesterfield Fireworks
DESCRIPTION:22023 Anderson Municipal Airport Airshow \n\nand Chesterfield Fireworks\n\nJuly 3\, 2023\n\n282 Airport Rd.\, Anderson\n\n\n\nGates open at 5:00 p.m.\n\nAirshow at 7:15 p.m.\n\nFireworks
X-ALT-DESC;FMTTYPE=text/html:<div style="text-align: center\;"><span style="font-size:24px\;"><strong>22023 Anderson Municipal Airport Airshow&nbsp\;</strong></span></div>\n\n<div style="text-align: center\;"><span style="font-size:24px\;"><strong>and Chesterfield Fireworks<br />\nJuly 3\, 2023<br />\n282 Airport Rd.\, Anderson<br />\n<br />\nGates open at 5:00 p.m.<br />\nAirshow at 7:15 p.m.<br />\nFireworks</strong></span></div>\n\n<div>&nbsp\;</div>\n\n<div style="text-align: center\;"><br />\n&nbsp\;</div>\n
LOCATION:Anderson Municipal Airport 282 Airport Rd.\, Anderson
UID:e.1371.12702
SEQUENCE:3
DTSTAMP:20260423T005500Z
URL:http://business.madisoncountyalliance.org/events/details/anderson-municipal-airport-airshow-town-of-chesterfield-fireworks-12702
END:VEVENT

END:VCALENDAR
