BEGIN:VCALENDAR
VERSION:2.0
PRODID:-//ChamberMaster//Event Calendar 2.0//EN
METHOD:PUBLISH
X-PUBLISHED-TTL:P3D
REFRESH-INTERVAL:P3D
CALSCALE:GREGORIAN
BEGIN:VEVENT
DTSTART:20240608T200000Z
DTEND:20240608T220000Z
X-MICROSOFT-CDO-ALLDAYEVENT:FALSE
SUMMARY:Anderson Rotary Club Golf & Glam Fashion Show
DESCRIPTION:Anderson Rotary Club Presents Golf & Glam Fashion Show\n\nSaturday\, June 8th\n\nGolf Challenges 4:00 p.m.\n\nHappy Hour & Dinner 6:00 p.m.\n\nEyecandy IWear Fashion Show 7:00 p.m.
X-ALT-DESC;FMTTYPE=text/html:Anderson Rotary Club Presents Golf &amp\; Glam Fashion Show<br />\nSaturday\, June 8th<br />\nGolf Challenges 4:00 p.m.<br />\nHappy Hour &amp\; Dinner 6:00 p.m.<br />\nEyecandy IWear Fashion Show 7:00 p.m.<br />\n<br />\n&nbsp\;
LOCATION:Anderson Country Club
UID:e.1371.18886
SEQUENCE:3
DTSTAMP:20260422T090542Z
URL:http://business.madisoncountyalliance.org/events/details/anderson-rotary-club-golf-glam-fashion-show-18886
END:VEVENT

END:VCALENDAR
