BEGIN:VCALENDAR
VERSION:2.0
PRODID:-//ChamberMaster//Event Calendar 2.0//EN
METHOD:PUBLISH
X-PUBLISHED-TTL:P3D
REFRESH-INTERVAL:P3D
CALSCALE:GREGORIAN
BEGIN:VEVENT
DTSTART:20240723T220000Z
DTEND:20240723T230000Z
X-MICROSOFT-CDO-ALLDAYEVENT:FALSE
SUMMARY:Artificial Intelligence: Digital Transformation Training Session
DESCRIPTION:This is a free Artificial Intelligence Digital Transformation Training Session focused on harnessing the power of AI and mastering ChatGPT through effective prompting. Led by Kevin Huff from Disruptify\, Inc.\, the session will discuss how AI can be used for personal and professional needs. Kevin\, a Chief Disruption Officer with a track record of driving sales growth\, will share insights on rebuilding and rebranding companies using AI.
X-ALT-DESC;FMTTYPE=text/html:This is a free Artificial Intelligence Digital Transformation Training Session focused on harnessing the power of AI and mastering ChatGPT through effective prompting. Led by Kevin Huff from Disruptify\, Inc.\, the session will discuss how AI can be used for personal and professional needs. Kevin\, a Chief Disruption Officer with a track record of driving sales growth\, will share insights on rebuilding and rebranding companies using AI.
LOCATION:2629 Lindberg Rd. Anderson\, IN\, 46012
UID:e.1371.18894
SEQUENCE:3
DTSTAMP:20260422T071502Z
URL:http://business.madisoncountyalliance.org/events/details/artificial-intelligence-digital-transformation-training-session-18894
END:VEVENT

END:VCALENDAR
