BEGIN:VCALENDAR
VERSION:2.0
PRODID:-//ChamberMaster//Event Calendar 2.0//EN
METHOD:PUBLISH
X-PUBLISHED-TTL:P3D
REFRESH-INTERVAL:P3D
CALSCALE:GREGORIAN
BEGIN:VEVENT
DTSTART:20250718T130000Z
DTEND:20250718T190000Z
X-MICROSOFT-CDO-ALLDAYEVENT:FALSE
SUMMARY:Ascension St. Vincent Anderson Center Camp Hope 2025
DESCRIPTION:Ascension St. Vincent Anderson Center Camp Hope 2025\n\nJuly 17 & 18 9:00 a.m. - 3:00 p.m. (ages 13 to 17)
X-ALT-DESC;FMTTYPE=text/html:Ascension St. Vincent Anderson Center Camp Hope 2025<br />\nJuly 17 &amp\; 18 9:00 a.m. - 3:00 p.m. (ages 13 to 17)&nbsp\;&nbsp\;&nbsp\;&nbsp\;<br />\n&nbsp\;
LOCATION:
UID:e.1371.19121
SEQUENCE:3
DTSTAMP:20260421T140106Z
URL:http://business.madisoncountyalliance.org/events/details/ascension-st-vincent-anderson-center-camp-hope-2025-19121
END:VEVENT

END:VCALENDAR
