BEGIN:VCALENDAR
VERSION:2.0
PRODID:-//ChamberMaster//Event Calendar 2.0//EN
METHOD:PUBLISH
X-PUBLISHED-TTL:P3D
REFRESH-INTERVAL:P3D
CALSCALE:GREGORIAN
BEGIN:VEVENT
DTSTART:20250801T210000Z
DTEND:20250802T000000Z
X-MICROSOFT-CDO-ALLDAYEVENT:FALSE
SUMMARY:August A.R.T.S Vendor Market
DESCRIPTION:First Fridays are held on the first Friday of each month at the Anderson Museum of Art. We invite local artists\, makers\, and small businesses monthly to join our vibrant vendor market: ARTS (A Reason to Shop). Come enjoy vendors\, a children's activity\, light refreshments\, and the opening of our upcoming exhibition\, Figures of Speech! Admission is FREE
X-ALT-DESC;FMTTYPE=text/html:First Fridays are held on the first Friday of each month at the Anderson Museum of Art. We invite local artists\, makers\, and small businesses monthly to join our vibrant vendor market: ARTS (A Reason to Shop). Come enjoy vendors\, a children&rsquo\;s activity\, light refreshments\, and the opening of our upcoming exhibition\, Figures of Speech! Admission is FREE
LOCATION:Anderson Museum of Art
UID:e.1371.19133
SEQUENCE:3
DTSTAMP:20260421T124656Z
URL:http://business.madisoncountyalliance.org/events/details/august-a-r-t-s-vendor-market-19133
END:VEVENT

END:VCALENDAR
