BEGIN:VCALENDAR
VERSION:2.0
PRODID:-//ChamberMaster//Event Calendar 2.0//EN
METHOD:PUBLISH
X-PUBLISHED-TTL:P3D
REFRESH-INTERVAL:P3D
CALSCALE:GREGORIAN
BEGIN:VEVENT
DTSTART;VALUE=DATE:20240623
DTEND;VALUE=DATE:20240624
TRANSP:TRANSPARENT
X-MICROSOFT-CDO-ALLDAYEVENT:TRUE
SUMMARY:Back-to-School Fundraiser for Operation Love at Star Photo
DESCRIPTION:Sunday\, June 23rd Star Photo will be hosting a Supply drive to collect supplies for Operation Love's Back-to-School Readiness Program. \n\n\n\nParticipants will receive a free portrait sitting (this can be a business or 'school style' portrait) complete with an 8x10 print in exchange for their donation.\n\nAt Citizen's Plaza Park across the street\, there will be music\, games\, and crafts to make it a family day out experience and to ease your wait time.
X-ALT-DESC;FMTTYPE=text/html:Sunday\, June 23rd Star Photo will be hosting a Supply drive to collect supplies for Operation Love&#39\;s Back-to-School Readiness Program.&nbsp\;<br />\n<br />\nParticipants will receive a free portrait sitting (this can be a business or &#39\;school style&#39\; portrait) complete with an 8x10 print in exchange for their donation.<br />\nAt Citizen&#39\;s Plaza Park across the street\, there will be music\, games\, and crafts to make it a family day out experience and to ease your wait time.&nbsp\;
LOCATION:Star Photo Digital Arts 902 Main Street Anderson\,IN 46016
UID:e.1371.18887
SEQUENCE:3
DTSTAMP:20260422T091012Z
URL:http://business.madisoncountyalliance.org/events/details/back-to-school-fundraiser-for-operation-love-at-star-photo-18887
END:VEVENT

END:VCALENDAR
