BEGIN:VCALENDAR
VERSION:2.0
PRODID:-//ChamberMaster//Event Calendar 2.0//EN
METHOD:PUBLISH
X-PUBLISHED-TTL:P3D
REFRESH-INTERVAL:P3D
CALSCALE:GREGORIAN
BEGIN:VEVENT
DTSTART:20241017T230000Z
DTEND:20241025T010000Z
X-MICROSOFT-CDO-ALLDAYEVENT:FALSE
SUMMARY:Beads & Bracelets Workshop for Teens & Adults
DESCRIPTION:Create Jewelry with Jewel! Projects include a Charm Bracelet\, Knot Hard to Do Bracelet\, and an Interchangeable Bead Bracelet. This two-session course is perfect for teens and adults who want to learn to make and design jewelry that's fun to wear and customized to their style.
X-ALT-DESC;FMTTYPE=text/html:Create Jewelry with Jewel! Projects include a Charm Bracelet\, Knot Hard to Do Bracelet\, and an Interchangeable Bead Bracelet. This two-session course is perfect for teens and adults who want to learn to make and design jewelry that&rsquo\;s fun to wear and customized to their style.
LOCATION:Anderson Museum of Art
UID:e.1371.18934
SEQUENCE:3
DTSTAMP:20260422T024436Z
URL:http://business.madisoncountyalliance.org/events/details/beads-bracelets-workshop-for-teens-adults-18934
END:VEVENT

END:VCALENDAR
