BEGIN:VCALENDAR
VERSION:2.0
PRODID:-//ChamberMaster//Event Calendar 2.0//EN
METHOD:PUBLISH
X-PUBLISHED-TTL:P3D
REFRESH-INTERVAL:P3D
CALSCALE:GREGORIAN
BEGIN:VEVENT
DTSTART:20241027T180000Z
DTEND:20241027T201500Z
X-MICROSOFT-CDO-ALLDAYEVENT:FALSE
SUMMARY:Bob Ross Painting Workshop\, "Blazing Sky"
DESCRIPTION:Paint like Bob Ross with certified instructors Stephanie Dumas and Andy Klise. All skill levels are welcome and all supplies are included! Members Save $10! Sign up as a member and continue to save on classes throughout the year.
X-ALT-DESC;FMTTYPE=text/html:Paint like Bob Ross with certified instructors Stephanie Dumas and Andy Klise. All skill levels are welcome and all supplies are included! Members Save $10! Sign up as a member and continue to save on classes throughout the year.
LOCATION:Anderson Museum of Art
UID:e.1371.18937
SEQUENCE:3
DTSTAMP:20260422T041604Z
URL:http://business.madisoncountyalliance.org/events/details/bob-ross-painting-workshop-blazing-sky-18937
END:VEVENT

END:VCALENDAR
