BEGIN:VCALENDAR
VERSION:2.0
PRODID:-//ChamberMaster//Event Calendar 2.0//EN
METHOD:PUBLISH
X-PUBLISHED-TTL:P3D
REFRESH-INTERVAL:P3D
CALSCALE:GREGORIAN
BEGIN:VEVENT
DTSTART:20250125T150000Z
DTEND:20250125T210000Z
X-MICROSOFT-CDO-ALLDAYEVENT:FALSE
SUMMARY:BOLD Womens Conference
DESCRIPTION:Journey to Boldness: Women Empowered\, Fearless in Faith Embark on a transformative experience designed to inspire and empower women through the lens of faith. This dynamic event brings together like-minded individuals seeking to cultivate boldness\, strength\, and unwavering confidence in their spiritual and personal lives. Throughout the day\, attendees will have the opportunity to: Engage with powerful speakers sharing insights on faith-based empowerment Participate in interactive workshops focused on personal growth and spiritual development Connect with a supportive community of women on similar journeys Explore practical tools for living fearlessly in today's world Vendors and informational booths will be available\, offering a diverse array of resources\, products\, and services tailored to support women in their faith and personal development. From inspirational literature and faith-based accessories to organizations promoting women's causes\, these exhibitors will enhance the overall experience and provide valuable takeaways. Whether you're seeking to deepen your faith\, overcome personal challenges\, or simply connect with a community of empowered women\, "Journey to Boldness" promises to be a transformative and uplifting event. Join us as we celebrate the strength\, resilience\, and fearless spirit of women united in faith.
X-ALT-DESC;FMTTYPE=text/html:Journey to Boldness: Women Empowered\, Fearless in Faith Embark on a transformative experience designed to inspire and empower women through the lens of faith. This dynamic event brings together like-minded individuals seeking to cultivate boldness\, strength\, and unwavering confidence in their spiritual and personal lives. Throughout the day\, attendees will have the opportunity to: Engage with powerful speakers sharing insights on faith-based empowerment Participate in interactive workshops focused on personal growth and spiritual development Connect with a supportive community of women on similar journeys Explore practical tools for living fearlessly in today&#39\;s world Vendors and informational booths will be available\, offering a diverse array of resources\, products\, and services tailored to support women in their faith and personal development. From inspirational literature and faith-based accessories to organizations promoting women&#39\;s causes\, these exhibitors will enhance the overall experience and provide valuable takeaways. Whether you&#39\;re seeking to deepen your faith\, overcome personal challenges\, or simply connect with a community of empowered women\, &quot\;Journey to Boldness&quot\; promises to be a transformative and uplifting event. Join us as we celebrate the strength\, resilience\, and fearless spirit of women united in faith.
LOCATION:2629 Lindberg Rd. Anderson IN 46012
UID:e.1371.18929
SEQUENCE:3
DTSTAMP:20260421T225831Z
URL:http://business.madisoncountyalliance.org/events/details/bold-womens-conference-18929
END:VEVENT

END:VCALENDAR
