BEGIN:VCALENDAR
VERSION:2.0
PRODID:-//ChamberMaster//Event Calendar 2.0//EN
METHOD:PUBLISH
X-PUBLISHED-TTL:P3D
REFRESH-INTERVAL:P3D
CALSCALE:GREGORIAN
BEGIN:VEVENT
DTSTART;VALUE=DATE:20250919
DTEND;VALUE=DATE:20250920
TRANSP:TRANSPARENT
X-MICROSOFT-CDO-ALLDAYEVENT:TRUE
SUMMARY:Bumbo Day
DESCRIPTION:Join us for our annual celebration of Bumbo Day\, also known as Talk Like a Pirate Day! Celebrate with the release of our special Bumbo IPA an oak-aged imperial IPA inspired by an old pirate's drink. Enjoy aromas and flavors of tropical fruit\, nutmeg\, rum\, and coconut in this unique brew. Plus\, indulge in a pirate-inspired menu item and a themed dessert\, available while supplies last. Come dressed in your pirate best\, talk like a buccaneer\, and toast to all things pirate and pale ale! Arrr\, ye don't want to miss this treasure of a day!
X-ALT-DESC;FMTTYPE=text/html:Join us for our annual celebration of Bumbo Day\, also known as Talk Like a Pirate Day! Celebrate with the release of our special Bumbo IPA&mdash\;an oak-aged imperial IPA inspired by an old pirate&rsquo\;s drink. Enjoy aromas and flavors of tropical fruit\, nutmeg\, rum\, and coconut in this unique brew. Plus\, indulge in a pirate-inspired menu item and a themed dessert\, available while supplies last. Come dressed in your pirate best\, talk like a buccaneer\, and toast to all things pirate and pale ale! Arrr\, ye don&rsquo\;t want to miss this treasure of a day!
LOCATION:Creatures of Habit Brewing Co. 1031 Meridian St Downtown Anderson
UID:e.1371.19144
SEQUENCE:3
DTSTAMP:20260421T112842Z
URL:http://business.madisoncountyalliance.org/events/details/bumbo-day-19144
END:VEVENT

END:VCALENDAR
