BEGIN:VCALENDAR
VERSION:2.0
PRODID:-//ChamberMaster//Event Calendar 2.0//EN
METHOD:PUBLISH
X-PUBLISHED-TTL:P3D
REFRESH-INTERVAL:P3D
CALSCALE:GREGORIAN
BEGIN:VEVENT
DTSTART:20240418T220000Z
DTEND:20240419T003000Z
X-MICROSOFT-CDO-ALLDAYEVENT:FALSE
SUMMARY:Burning Brims Hat Party
DESCRIPTION:The Anderson Museum of Art invites you to a sizzling celebration of style at our Burning Brims Hat Party! The registration fee includes the following: A stylish Suede Rancher Hat Personalized burned design options Six included embellishments to explore your creativity Opportunity to purchase additional embellishments for an extra touch Guests are encouraged to bring jewelry\, mementos\, or any other cherished items to incorporate into their hat design Painted hats are available upon request Instructor Brittany will lead the Burning Brims Hat Party\, open to individuals aged 12 and above. No prior experience is necessary   just a passion for creativity and style! Event Details: Instructor: Burning Brims with Brittany Date: Thursday\, April 18\, Time: 6:00 pm   8:30 pm\, Age: 12+ Cost: $75 Sign Up Deadline: April 11
X-ALT-DESC;FMTTYPE=text/html:The Anderson Museum of Art invites you to a sizzling celebration of style at our Burning Brims Hat Party! The registration fee includes the following: A stylish Suede Rancher Hat Personalized burned design options Six included embellishments to explore your creativity Opportunity to purchase additional embellishments for an extra touch Guests are encouraged to bring jewelry\, mementos\, or any other cherished items to incorporate into their hat design Painted hats are available upon request Instructor Brittany will lead the Burning Brims Hat Party\, open to individuals aged 12 and above. No prior experience is necessary &ndash\; just a passion for creativity and style! Event Details: Instructor: Burning Brims with Brittany Date: Thursday\, April 18\, Time: 6:00 pm &ndash\; 8:30 pm\, Age: 12+ Cost: $75 Sign Up Deadline: April 11
LOCATION:Anderson Museum of Art 32 Hst W 10th St\, Anderson\, IN 46016
UID:e.1371.18864
SEQUENCE:3
DTSTAMP:20260422T115210Z
URL:http://business.madisoncountyalliance.org/events/details/burning-brims-hat-party-18864
END:VEVENT

END:VCALENDAR
