BEGIN:VCALENDAR
VERSION:2.0
PRODID:-//ChamberMaster//Event Calendar 2.0//EN
METHOD:PUBLISH
X-PUBLISHED-TTL:P3D
REFRESH-INTERVAL:P3D
CALSCALE:GREGORIAN
BEGIN:VEVENT
DTSTART:20250903T160000Z
DTEND:20250903T170000Z
X-MICROSOFT-CDO-ALLDAYEVENT:FALSE
SUMMARY:Business on the Menu - Health & Wellness for Employees
DESCRIPTION:Business on the Menu - Health & Wellness for Employees\n\nMCC Members Only Event\n\nPresentations by Aspire Indiana and Madison County Health Department\n\nSeptember 3\, 2025\n\n12:00 noon - 1:00 p.m.\n\nAnderson Public Library - Delaware Room\n\n111 E. 12th Street\, Anderson\n\n\n\nSponsored by Ascension
X-ALT-DESC;FMTTYPE=text/html:<span style="font-size:18px\;"><strong>Business on the Menu - Health &amp\; Wellness for Employees</strong></span><br />\n<strong style="color: rgb(51\, 51\, 51)\; font-family: sans-serif\, Arial\, Verdana\, &quot\;Trebuchet MS&quot\;\; font-size: 13px\;"><em>MCC Members Only Event</em></strong><br />\n<span style="font-size:18px\;"><strong><span style="font-size:16px\;">Presentations by Aspire Indiana and Madison County Health Department</span></strong></span><br />\n<span style="font-size:14px\;">September 3\, 2025<br />\n12:00 noon - 1:00 p.m.<br />\nAnderson Public Library - Delaware Room<br />\n111 E. 12th Street\, Anderson</span><br />\n<br />\nSponsored by Ascension<br />\n&nbsp\;
LOCATION:Anderson Public Library Delaware Room 111 E. 12th Street Anderson\, IN 46016
UID:e.1371.19129
SEQUENCE:3
DTSTAMP:20260421T113018Z
URL:http://business.madisoncountyalliance.org/events/details/business-on-the-menu-health-wellness-for-employees-19129
END:VEVENT

END:VCALENDAR
