BEGIN:VCALENDAR
VERSION:2.0
PRODID:-//ChamberMaster//Event Calendar 2.0//EN
METHOD:PUBLISH
X-PUBLISHED-TTL:P3D
REFRESH-INTERVAL:P3D
CALSCALE:GREGORIAN
BEGIN:VEVENT
DTSTART:20251007T160000Z
DTEND:20251007T170000Z
X-MICROSOFT-CDO-ALLDAYEVENT:FALSE
SUMMARY:Business on the Menu - Marketing & Public Relations
DESCRIPTION:Business on the Menu - Marketing & Public Relations\n\nMCC Members Only Event\n\n\n\nOctober 7\, 2025\n\n12:00 noon - 1:00 p.m.\n\nAnderson Public Library - Delaware Room\n\n111 E. 12th Street\, Anderson
X-ALT-DESC;FMTTYPE=text/html:<span style="font-size:18px\;"><strong>Business on the Menu - Marketing &amp\; Public Relations</strong></span><br />\n<strong style="color: rgb(51\, 51\, 51)\; font-family: sans-serif\, Arial\, Verdana\, &quot\;Trebuchet MS&quot\;\; font-size: 13px\;"><em>MCC Members Only Event</em></strong><br />\n<br />\n<span style="font-size:14px\;">October 7\, 2025<br />\n12:00 noon - 1:00 p.m.<br />\nAnderson Public Library - Delaware Room<br />\n111 E. 12th Street\, Anderson</span><br />\n<br />\n&nbsp\;
LOCATION:Anderson Public Library Delaware Room 111 E. 12th Street Anderson\, IN 46016
UID:e.1371.19130
SEQUENCE:3
DTSTAMP:20260421T111735Z
URL:http://business.madisoncountyalliance.org/events/details/business-on-the-menu-marketing-public-relations-19130
END:VEVENT

END:VCALENDAR
