BEGIN:VCALENDAR
VERSION:2.0
PRODID:-//ChamberMaster//Event Calendar 2.0//EN
METHOD:PUBLISH
X-PUBLISHED-TTL:P3D
REFRESH-INTERVAL:P3D
CALSCALE:GREGORIAN
BEGIN:VEVENT
DTSTART:20260214T170000Z
DTEND:20260214T170000Z
X-MICROSOFT-CDO-ALLDAYEVENT:FALSE
SUMMARY:Ceramic Stained Glass Pendant and Earrings
DESCRIPTION:Celebrate Valentine's Day with us at AMOA! Join our Ceramic Stained Glass Pendant & Earrings Class\, where you'll create beautiful wearable art using recycled china. This hands-on workshop is the perfect way to spend the afternoon\, whether you're treating yourself\, celebrating with a friend\, or making a heartfelt gift. When? February 14 What time? 2:00 PM Ticket Prices:   Members: $35   Non-Members: $45 AMOAzing Deal: For just $15 more\, bundle this class with a one-year individual membership and enjoy art all year long! Spaces are limited\, don't miss out on this creative Valentine's experience!
X-ALT-DESC;FMTTYPE=text/html:Celebrate Valentine&rsquo\;s Day with us at AMOA! Join our Ceramic Stained Glass Pendant &amp\; Earrings Class\, where you&rsquo\;ll create beautiful wearable art using recycled china. This hands-on workshop is the perfect way to spend the afternoon\, whether you&rsquo\;re treating yourself\, celebrating with a friend\, or making a heartfelt gift. When? February 14 What time? 2:00 PM Ticket Prices: &bull\; Members: $35 &bull\; Non-Members: $45 AMOAzing Deal: For just $15 more\, bundle this class with a one-year individual membership and enjoy art all year long! Spaces are limited\, don&rsquo\;t miss out on this creative Valentine&rsquo\;s experience!
LOCATION:Anderson Museum of Art
UID:e.1371.19170
SEQUENCE:3
DTSTAMP:20260421T040754Z
URL:http://business.madisoncountyalliance.org/events/details/ceramic-stained-glass-pendant-and-earrings-19170
END:VEVENT

END:VCALENDAR
