BEGIN:VCALENDAR
VERSION:2.0
PRODID:-//ChamberMaster//Event Calendar 2.0//EN
METHOD:PUBLISH
X-PUBLISHED-TTL:P3D
REFRESH-INTERVAL:P3D
CALSCALE:GREGORIAN
BEGIN:VEVENT
DTSTART:20230310T003000Z
DTEND:20230310T023000Z
X-MICROSOFT-CDO-ALLDAYEVENT:FALSE
SUMMARY:Chapel Hart
DESCRIPTION:Sisters Danica and Devynn Hart and cousin Trea Swindle make up Chapel Hart\, whose colorful and contagious energy has flourished into a full live band experience. In 2021\, the Mississippi trio was inducted in to CMT's Next Women of Country. The group has an amazing ability to tug on your heartstrings with a tender ballad\, then have you pumping your fist in unison to the pulse of hard-hitting music.
X-ALT-DESC;FMTTYPE=text/html:Sisters Danica and Devynn Hart and cousin Trea Swindle make up Chapel Hart\, whose colorful and contagious energy has flourished into a full live band experience. In 2021\, the Mississippi trio was inducted in to CMT&rsquo\;s Next Women of Country. The group has an amazing ability to tug on your heartstrings with a tender ballad\, then have you pumping your fist in unison to the pulse of hard-hitting music.
LOCATION:The Paramount Theatre
UID:e.1371.12292
SEQUENCE:3
DTSTAMP:20260423T065727Z
URL:http://business.madisoncountyalliance.org/events/details/chapel-hart-12292
END:VEVENT

END:VCALENDAR
