BEGIN:VCALENDAR
VERSION:2.0
PRODID:-//ChamberMaster//Event Calendar 2.0//EN
METHOD:PUBLISH
X-PUBLISHED-TTL:P3D
REFRESH-INTERVAL:P3D
CALSCALE:GREGORIAN
BEGIN:VEVENT
DTSTART:20230505T160000Z
DTEND:20230506T010000Z
X-MICROSOFT-CDO-ALLDAYEVENT:FALSE
SUMMARY:Cinco de Mayo event
DESCRIPTION:We want to invite everyone to come join us on May 5th for Cinco de Mayo ~ We will have All Day Specials at 20% off all Tequila drinks and serving Street Tacos with street corn from 5-8pm ~ Also will be putting on a master class from 6-8pm for anyone who wants to learn more about the Tequila process.  The class includes a tasting of the Desnuda Organic Tequila line with their Blanco\, Reposado\, & Anejo.  See you on Friday!
X-ALT-DESC;FMTTYPE=text/html:<div style="text-align:center"><span style="color:rgb(61\, 69\, 77)\; font-family:sqmarket\,helvetica neue\,helvetica\,sans-serif\; font-size:20px">We want to invite everyone to come join us on May 5th for Cinco de Mayo ~ We will have All Day Specials at 20% off all Tequila drinks and serving Street Tacos with street corn from 5-8pm ~ Also will be putting on a master class from 6-8pm for anyone who wants to learn more about the Tequila process.&nbsp\; The class includes a tasting of the Desnuda Organic Tequila line with their Blanco\, Reposado\, &amp\; Anejo.&nbsp\; See you on Friday!&nbsp\;</span></div>\n
LOCATION:180 E Broadway Street Ingalls\, IN 46048
UID:e.1371.12700
SEQUENCE:3
DTSTAMP:20260423T034240Z
URL:http://business.madisoncountyalliance.org/events/details/cinco-de-mayo-event-12700
END:VEVENT

END:VCALENDAR
