BEGIN:VCALENDAR
VERSION:2.0
PRODID:-//ChamberMaster//Event Calendar 2.0//EN
METHOD:PUBLISH
X-PUBLISHED-TTL:P3D
REFRESH-INTERVAL:P3D
CALSCALE:GREGORIAN
BEGIN:VEVENT
DTSTART:20230314T220000Z
DTEND:20230315T000000Z
X-MICROSOFT-CDO-ALLDAYEVENT:FALSE
SUMMARY:Clay Garden Markers
DESCRIPTION:The building will take place on March 14. Clay takes a few weeks to dry. Once fired\, participants will schedule a time to come back independently to glaze their work.
X-ALT-DESC;FMTTYPE=text/html:The building will take place on March 14. Clay takes a few weeks to dry. Once fired\, participants will schedule a time to come back independently to glaze their work.
LOCATION:Anderson Museum of Art
UID:e.1371.12481
SEQUENCE:3
DTSTAMP:20260423T070612Z
URL:http://business.madisoncountyalliance.org/events/details/clay-garden-markers-12481
END:VEVENT

END:VCALENDAR
