BEGIN:VCALENDAR
VERSION:2.0
PRODID:-//ChamberMaster//Event Calendar 2.0//EN
METHOD:PUBLISH
X-PUBLISHED-TTL:P3D
REFRESH-INTERVAL:P3D
CALSCALE:GREGORIAN
BEGIN:VEVENT
DTSTART:20230330T200000Z
DTEND:20230330T220000Z
X-MICROSOFT-CDO-ALLDAYEVENT:FALSE
SUMMARY:Clay Tic-Tac-Toe Board
DESCRIPTION:Students will create their own unique clay tic-tac-toe board! Building will take place on March 30. Clay takes a few weeks to dry. Once fired\, students will schedule a time to come back independently and glaze their work.
X-ALT-DESC;FMTTYPE=text/html:Students will create their own unique clay tic-tac-toe board! Building will take place on March 30. Clay takes a few weeks to dry. Once fired\, students will schedule a time to come back independently and glaze their work.
LOCATION:Anderson Museum of Art
UID:e.1371.12484
SEQUENCE:3
DTSTAMP:20260423T070458Z
URL:http://business.madisoncountyalliance.org/events/details/clay-tic-tac-toe-board-12484
END:VEVENT

END:VCALENDAR
