BEGIN:VCALENDAR
VERSION:2.0
PRODID:-//ChamberMaster//Event Calendar 2.0//EN
METHOD:PUBLISH
X-PUBLISHED-TTL:P3D
REFRESH-INTERVAL:P3D
CALSCALE:GREGORIAN
BEGIN:VEVENT
DTSTART:20230715T130000Z
DTEND:20230715T190000Z
X-MICROSOFT-CDO-ALLDAYEVENT:FALSE
SUMMARY:Color Walk & Vendor Fair
DESCRIPTION:Join us for our free community color walk (1 mile) and vendor fair! We will have complimentary lunch\, music\, bounce houses\, 1 mile walk\, and small business/vendor fair. The walk will start at 9am and all other events will begin at 10am!
X-ALT-DESC;FMTTYPE=text/html:Join us for our free community color walk (1 mile) and vendor fair! We will have complimentary lunch\, music\, bounce houses\, 1 mile walk\, and small business/vendor fair. The walk will start at 9am and all other events will begin at 10am!&nbsp\;
LOCATION:Bethany Pointe Health Campus 1707 Bethany Road Anderson\, IN 46012
UID:e.1371.18322
SEQUENCE:3
DTSTAMP:20260423T005054Z
URL:http://business.madisoncountyalliance.org/events/details/color-walk-vendor-fair-18322
END:VEVENT

END:VCALENDAR
