BEGIN:VCALENDAR
VERSION:2.0
PRODID:-//ChamberMaster//Event Calendar 2.0//EN
METHOD:PUBLISH
X-PUBLISHED-TTL:P3D
REFRESH-INTERVAL:P3D
CALSCALE:GREGORIAN
BEGIN:VEVENT
DTSTART:20230916T213000Z
DTEND:20230917T000000Z
X-MICROSOFT-CDO-ALLDAYEVENT:FALSE
SUMMARY:Community Chefs
DESCRIPTION:Community Chefs\n\nAnderson Country Club
X-ALT-DESC;FMTTYPE=text/html:Community Chefs<br />\nAnderson Country Club<br />\n&nbsp\;
LOCATION:
UID:e.1371.12477
SEQUENCE:3
DTSTAMP:20260422T215916Z
URL:http://business.madisoncountyalliance.org/events/details/community-chefs-12477
END:VEVENT

END:VCALENDAR
