BEGIN:VCALENDAR
VERSION:2.0
PRODID:-//ChamberMaster//Event Calendar 2.0//EN
METHOD:PUBLISH
X-PUBLISHED-TTL:P3D
REFRESH-INTERVAL:P3D
CALSCALE:GREGORIAN
BEGIN:VEVENT
DTSTART:20240405T120000Z
DTEND:20240405T213000Z
X-MICROSOFT-CDO-ALLDAYEVENT:FALSE
SUMMARY:Day Trip to the Cincinnati Art Museum
DESCRIPTION:Anderson Museum of Art (AMOA) invites the public to register for a Day Trip to the Cincinnati Art Museum on April 5\, 2024. The trip includes breakfast\, charter bus transportation\, and Cincinnati Art Museum access. The trip costs $70\, or $60 for current AMOA Members. A limited number of tickets are available\, ITINERARY: 8:00 am: AMOA opens\, and light breakfast served 9:00 am: Charter Bus leaves AMOA 11:30 am: Arrive 11:30 am   3:00 pm: Explore! 3:00 pm: Depart 5:30 pm: Arrive at AMOA Special Exhibits on display during our visit. Clearly Indigenous: Native Visions Reimagined in Glass celebrates a broad range of contemporary Native American and Indigenous Pacific-Rim artists working in glass. Whitfield Lovell: Passages urges viewers to contemplate the ordinary lives and extraordinary journeys of the African American experience while raising universal questions about identity\, memory\, and America's collective heritage. Accessible Expressions Ohio: A juried statewide art exhibition by Ohio artists of all ages with disabilities. About the Cincinnati Art Museum Located in scenic Eden Park\, the Cincinnati Art Museum features a diverse\, encyclopedic art collection of over 73\,000 works spanning 6\,000 years. In addition to displaying its broad collection\, the museum hosts several national and international traveling exhibitions annually.
X-ALT-DESC;FMTTYPE=text/html:Anderson Museum of Art (AMOA) invites the public to register for a Day Trip to the Cincinnati Art Museum on April 5\, 2024. The trip includes breakfast\, charter bus transportation\, and Cincinnati Art Museum access. The trip costs $70\, or $60 for current AMOA Members. A limited number of tickets are available\, ITINERARY: 8:00 am: AMOA opens\, and light breakfast served 9:00 am: Charter Bus leaves AMOA 11:30 am: Arrive 11:30 am &ndash\; 3:00 pm: Explore! 3:00 pm: Depart 5:30 pm: Arrive at AMOA Special Exhibits on display during our visit. Clearly Indigenous: Native Visions Reimagined in Glass celebrates a broad range of contemporary Native American and Indigenous Pacific-Rim artists working in glass. Whitfield Lovell: Passages urges viewers to contemplate the ordinary lives and extraordinary journeys of the African American experience while raising universal questions about identity\, memory\, and America&rsquo\;s collective heritage. Accessible Expressions Ohio: A juried statewide art exhibition by Ohio artists of all ages with disabilities. About the Cincinnati Art Museum Located in scenic Eden Park\, the Cincinnati Art Museum features a diverse\, encyclopedic art collection of over 73\,000 works spanning 6\,000 years. In addition to displaying its broad collection\, the museum hosts several national and international traveling exhibitions annually.
LOCATION:32 Hst W 10th St\, Anderson\, IN 46016
UID:e.1371.18856
SEQUENCE:3
DTSTAMP:20260422T115329Z
URL:http://business.madisoncountyalliance.org/events/details/day-trip-to-the-cincinnati-art-museum-18856
END:VEVENT

END:VCALENDAR
