BEGIN:VCALENDAR
VERSION:2.0
PRODID:-//ChamberMaster//Event Calendar 2.0//EN
METHOD:PUBLISH
X-PUBLISHED-TTL:P3D
REFRESH-INTERVAL:P3D
CALSCALE:GREGORIAN
BEGIN:VEVENT
DTSTART:20251205T220000Z
DTEND:20251206T010000Z
X-MICROSOFT-CDO-ALLDAYEVENT:FALSE
SUMMARY:December A.R.T.S Vendor Market
DESCRIPTION:Join us on December 5 from 5 8 PM for a festive evening of holiday shopping with a variety of local vendors! Bring the kids to meet Santa and enjoy a fun\, holiday-themed art activity while you shop. Admission is FREE!
X-ALT-DESC;FMTTYPE=text/html:Join us on December 5 from 5&ndash\;8 PM for a festive evening of holiday shopping with a variety of local vendors! Bring the kids to meet Santa and enjoy a fun\, holiday-themed art activity while you shop. Admission is FREE!
LOCATION:32 WEST 10TH STREET ANDERSON\, IN 46016
UID:e.1371.19156
SEQUENCE:3
DTSTAMP:20260421T065958Z
URL:http://business.madisoncountyalliance.org/events/details/december-a-r-t-s-vendor-market-19156
END:VEVENT

END:VCALENDAR
