BEGIN:VCALENDAR
VERSION:2.0
PRODID:-//ChamberMaster//Event Calendar 2.0//EN
METHOD:PUBLISH
X-PUBLISHED-TTL:P3D
REFRESH-INTERVAL:P3D
CALSCALE:GREGORIAN
BEGIN:VEVENT
DTSTART:20231115T220000Z
DTEND:20231116T000000Z
X-MICROSOFT-CDO-ALLDAYEVENT:FALSE
SUMMARY:Deck the Walls: Opening Ceremony
DESCRIPTION:Join us for the opening of our holiday exhibit "Deck the Walls" featuring holiday decor from local residents. See our community's collection of vintage nutcrackers\, stockings\, dreidels\, menorahs\, villages\, ceramic trees\, Victorian Christmas cards\, and so much more in celebration of the holiday season!
X-ALT-DESC;FMTTYPE=text/html:Join us for the opening of our holiday exhibit &ldquo\;Deck the Walls&rdquo\; featuring holiday decor from local residents. See our community&rsquo\;s collection of vintage nutcrackers\, stockings\, dreidels\, menorahs\, villages\, ceramic trees\, Victorian Christmas cards\, and so much more in celebration of the holiday season!
LOCATION:Anderson Museum of Art
UID:e.1371.18781
SEQUENCE:3
DTSTAMP:20260422T185742Z
URL:http://business.madisoncountyalliance.org/events/details/deck-the-walls-opening-ceremony-18781
END:VEVENT

END:VCALENDAR
