BEGIN:VCALENDAR
VERSION:2.0
PRODID:-//ChamberMaster//Event Calendar 2.0//EN
METHOD:PUBLISH
X-PUBLISHED-TTL:P3D
REFRESH-INTERVAL:P3D
CALSCALE:GREGORIAN
BEGIN:VEVENT
DTSTART:20250531T230000Z
DTEND:20250601T020000Z
X-MICROSOFT-CDO-ALLDAYEVENT:FALSE
SUMMARY:Diamonds and Denim Soiree
DESCRIPTION:Do not miss this evening of elegance and country charm at our Diamonds and Denim Soiree! Join the Anderson Arts League as they host this amazing event in support of the Anderson Museum of Art. Show up in your best denim and diamonds and enjoy dinner\, drinks\, line dancing\, and live entertainment! Visit https://www.andersonart.org/diamonds/ for more information!
X-ALT-DESC;FMTTYPE=text/html:Do not miss this evening of elegance and country charm at our Diamonds and Denim Soiree! Join the Anderson Arts League as they host this amazing event in support of the Anderson Museum of Art. Show up in your best denim and diamonds and enjoy dinner\, drinks\, line dancing\, and live entertainment! Visit https://www.andersonart.org/diamonds/ for more information!
LOCATION:32 WEST 10TH STREET ANDERSON\, IN 46016
UID:e.1371.19101
SEQUENCE:3
DTSTAMP:20260421T170457Z
URL:http://business.madisoncountyalliance.org/events/details/diamonds-and-denim-soiree-19101
END:VEVENT

END:VCALENDAR
