BEGIN:VCALENDAR
VERSION:2.0
PRODID:-//ChamberMaster//Event Calendar 2.0//EN
METHOD:PUBLISH
X-PUBLISHED-TTL:P3D
REFRESH-INTERVAL:P3D
CALSCALE:GREGORIAN
BEGIN:VEVENT
DTSTART:20230413T200000Z
DTEND:20230414T000000Z
X-MICROSOFT-CDO-ALLDAYEVENT:FALSE
SUMMARY:Dine & Support Purdue Polytechnic Robotics Team
DESCRIPTION:Dine & Support Purdue Polytechnic\n\nAnderson World Championship Qualifying Robotic Team\n\nApril 13th\n\n4:00 - 8:00 p.m.\n\nMancino's Pizza & Grinders\n\n1606 S. Scatterfield Rd.\, Anderson
X-ALT-DESC;FMTTYPE=text/html:<div style="text-align: center\;"><span style="font-size:22px\;">Dine &amp\; Support Purdue Polytechnic<br />\nAnderson World Championship Qualifying Robotic Team<br />\nApril 13th<br />\n4:00 - 8:00 p.m.<br />\nMancino&#39\;s Pizza &amp\; Grinders<br />\n1606 S. Scatterfield Rd.\, Anderson</span></div>\n
LOCATION:Mancino's Pizza & Grinders 1606 S. Scatterfield Rd.\, Anderson
UID:e.1371.12663
SEQUENCE:3
DTSTAMP:20260423T064727Z
URL:http://business.madisoncountyalliance.org/events/details/dine-support-purdue-polytechnic-robotics-team-12663
END:VEVENT

END:VCALENDAR
