BEGIN:VCALENDAR
VERSION:2.0
PRODID:-//ChamberMaster//Event Calendar 2.0//EN
METHOD:PUBLISH
X-PUBLISHED-TTL:P3D
REFRESH-INTERVAL:P3D
CALSCALE:GREGORIAN
BEGIN:VEVENT
DTSTART:20250919T170000Z
DTEND:20250919T200000Z
X-MICROSOFT-CDO-ALLDAYEVENT:FALSE
SUMMARY:Discover Mockingbird Hill
DESCRIPTION:The team at Mockingbird Hill invites you to join them on Friday\, September 19 to discover everything Mockingbird Hill has to offer! From 1-4 p.m.\, Chef James Bryant will be working the grill\, and visitors will have the opportunity to tour the facility. Guests will also be able to attend a panel discussion including Aspire Medical Director of Addiction Services Dr. James Meacham along with Mockingbird Hill staff and former residents. Everyone is invited to come and Discover Mockingbird Hill.
X-ALT-DESC;FMTTYPE=text/html:The team at Mockingbird Hill invites you to join them on Friday\, September 19 to discover everything Mockingbird Hill has to offer! From 1-4 p.m.\, Chef James Bryant will be working the grill\, and visitors will have the opportunity to tour the facility. Guests will also be able to attend a panel discussion including Aspire Medical Director of Addiction Services Dr. James Meacham along with Mockingbird Hill staff and former residents. Everyone is invited to come and Discover Mockingbird Hill.
LOCATION:Mockingbird Hill Recovery Center
UID:e.1371.19135
SEQUENCE:3
DTSTAMP:20260421T112208Z
URL:http://business.madisoncountyalliance.org/events/details/discover-mockingbird-hill-19135
END:VEVENT

END:VCALENDAR
