BEGIN:VCALENDAR
VERSION:2.0
PRODID:-//ChamberMaster//Event Calendar 2.0//EN
METHOD:PUBLISH
X-PUBLISHED-TTL:P3D
REFRESH-INTERVAL:P3D
CALSCALE:GREGORIAN
BEGIN:VEVENT
DTSTART:20240728T220000Z
DTEND:20240729T030000Z
X-MICROSOFT-CDO-ALLDAYEVENT:FALSE
SUMMARY:Doesn't Hurt To Laugh Family Comedy Show
DESCRIPTION:Family Comedy Show
X-ALT-DESC;FMTTYPE=text/html:Family Comedy Show
LOCATION:2629 Lindberg Rd
UID:e.1371.18899
SEQUENCE:3
DTSTAMP:20260422T072033Z
URL:http://business.madisoncountyalliance.org/events/details/doesn-t-hurt-to-laugh-family-comedy-show-18899
END:VEVENT

END:VCALENDAR
