BEGIN:VCALENDAR
VERSION:2.0
PRODID:-//ChamberMaster//Event Calendar 2.0//EN
METHOD:PUBLISH
X-PUBLISHED-TTL:P3D
REFRESH-INTERVAL:P3D
CALSCALE:GREGORIAN
BEGIN:VEVENT
DTSTART:20241026T180000Z
DTEND:20241126T200000Z
X-MICROSOFT-CDO-ALLDAYEVENT:FALSE
SUMMARY:Drawing from Experience for 1st-5th Graders
DESCRIPTION:Thanks to a generous grant from the Madison County Community Foundation\, we are happy to provide a variety of art classes FREE to the community during the months of September\, October\, and November with Nick Martin\, Education Outreach Specialist. These classes focus on using art as therapy to create a supportive\, collaborative environment for the young members of our community. Choose the class with the appropriate age group and time that works best for your child to reserve their spot!
X-ALT-DESC;FMTTYPE=text/html:Thanks to a generous grant from the Madison County Community Foundation\, we are happy to provide a variety of art classes FREE to the community during the months of September\, October\, and November with Nick Martin\, Education Outreach Specialist. These classes focus on using art as therapy to create a supportive\, collaborative environment for the young members of our community. Choose the class with the appropriate age group and time that works best for your child to reserve their spot!
LOCATION:Anderson Museum of Art
UID:e.1371.18936
SEQUENCE:3
DTSTAMP:20260422T014417Z
URL:http://business.madisoncountyalliance.org/events/details/drawing-from-experience-for-1st-5th-graders-18936
END:VEVENT

END:VCALENDAR
