BEGIN:VCALENDAR
VERSION:2.0
PRODID:-//ChamberMaster//Event Calendar 2.0//EN
METHOD:PUBLISH
X-PUBLISHED-TTL:P3D
REFRESH-INTERVAL:P3D
CALSCALE:GREGORIAN
BEGIN:VEVENT
DTSTART:20230408T160000Z
DTEND:20230408T190000Z
X-MICROSOFT-CDO-ALLDAYEVENT:FALSE
SUMMARY:Easter Bunny at Mancino's Pizza & Grinders
DESCRIPTION:Come see the Easter Bunny at Mancino's Pizza & Grinder's\n\nSaturday\, April 8th\n\n12:00 - 3:00 p.m.\n\n\n\n1606 S. Scatterfield Rd.\, Anderson 765-642-2300
X-ALT-DESC;FMTTYPE=text/html:<div style="text-align: center\;"><span style="font-size:18px\;">Come see the Easter Bunny at Mancino&#39\;s Pizza &amp\; Grinder&#39\;s</span></div>\n\n<div style="text-align: center\;"><span style="font-size:18px\;">Saturday\, April 8th<br />\n12:00 - 3:00 p.m.<br />\n<br />\n1606 S. Scatterfield Rd.\, Anderson 765-642-2300</span></div>\n
LOCATION:1606 S. Scatterfield Rd.\, Anderson
UID:e.1371.12662
SEQUENCE:3
DTSTAMP:20260423T051346Z
URL:http://business.madisoncountyalliance.org/events/details/easter-bunny-at-mancino-s-pizza-grinders-12662
END:VEVENT

END:VCALENDAR
