BEGIN:VCALENDAR
VERSION:2.0
PRODID:-//ChamberMaster//Event Calendar 2.0//EN
METHOD:PUBLISH
X-PUBLISHED-TTL:P3D
REFRESH-INTERVAL:P3D
CALSCALE:GREGORIAN
BEGIN:VEVENT
DTSTART:20241220T223000Z
DTEND:20241220T233000Z
X-MICROSOFT-CDO-ALLDAYEVENT:FALSE
SUMMARY:Elf Art Studio: Elf Ears!
DESCRIPTION:To hear the holiday songs in the air it is best to have Elf Ears\, make some elf ears you can wear to become a really good listener\, and they look cool. Young artists will learn to craft and decorate some elf ears that they can wear home\, they will also play a listening game with their new elf friends.
X-ALT-DESC;FMTTYPE=text/html:To hear the holiday songs in the air it is best to have Elf Ears\, make some elf ears you can wear to become a really good listener\, and they look cool. Young artists will learn to craft and decorate some elf ears that they can wear home\, they will also play a listening game with their new elf friends.
LOCATION:Anderson Museum of Art
UID:e.1371.18944
SEQUENCE:3
DTSTAMP:20260422T002658Z
URL:http://business.madisoncountyalliance.org/events/details/elf-art-studio-elf-ears-18944
END:VEVENT

END:VCALENDAR
