BEGIN:VCALENDAR
VERSION:2.0
PRODID:-//ChamberMaster//Event Calendar 2.0//EN
METHOD:PUBLISH
X-PUBLISHED-TTL:P3D
REFRESH-INTERVAL:P3D
CALSCALE:GREGORIAN
BEGIN:VEVENT
DTSTART:20241214T160000Z
DTEND:20241214T170000Z
X-MICROSOFT-CDO-ALLDAYEVENT:FALSE
SUMMARY:Elf Art Studio: Holiday Wristbands
DESCRIPTION:Customize a wristband by making it shiny with jewels\, patterned with ribbon\, or textured with puffy paint to wear in your elf-play. Young artists will make and decorate their own fun holiday wristbands to round out their collection of elf gear. Learning the skills of patiently crafting\, recognizing inspiration\, and sharing their love of art with others.
X-ALT-DESC;FMTTYPE=text/html:Customize a wristband by making it shiny with jewels\, patterned with ribbon\, or textured with puffy paint to wear in your elf-play. Young artists will make and decorate their own fun holiday wristbands to round out their collection of elf gear. Learning the skills of patiently crafting\, recognizing inspiration\, and sharing their love of art with others.
LOCATION:Anderson Museum of Art
UID:e.1371.18943
SEQUENCE:3
DTSTAMP:20260422T014152Z
URL:http://business.madisoncountyalliance.org/events/details/elf-art-studio-holiday-wristbands-18943
END:VEVENT

END:VCALENDAR
