BEGIN:VCALENDAR
VERSION:2.0
PRODID:-//ChamberMaster//Event Calendar 2.0//EN
METHOD:PUBLISH
X-PUBLISHED-TTL:P3D
REFRESH-INTERVAL:P3D
CALSCALE:GREGORIAN
BEGIN:VEVENT
DTSTART:20241207T180000Z
DTEND:20241207T190000Z
X-MICROSOFT-CDO-ALLDAYEVENT:FALSE
SUMMARY:Elf Art Studio: Super Elf!
DESCRIPTION:What super elves will show up and customize free capes with this imaginative and playful class? Young artists will learn to decorate fabric using a variety of supplies. Building skills of: craft and dexterity\, playful fun with others\, and celebrating the unique superpowers of the other elfs around them!
X-ALT-DESC;FMTTYPE=text/html:What super elves will show up and customize free capes with this imaginative and playful class? Young artists will learn to decorate fabric using a variety of supplies. Building skills of: craft and dexterity\, playful fun with others\, and celebrating the unique superpowers of the other elfs around them!
LOCATION:Anderson Museum of Art
UID:e.1371.18942
SEQUENCE:3
DTSTAMP:20260422T001407Z
URL:http://business.madisoncountyalliance.org/events/details/elf-art-studio-super-elf-18942
END:VEVENT

END:VCALENDAR
